BEGIN:VCALENDAR
VERSION:2.0
PRODID:-//hacksw/handcal//NONSGML v1.0//EN
BEGIN:VEVENT
SUMMARY:Michel offre un verre
UID:bb841dec-2717-4d78-8209-67f9a11a838a
DTSTART:20260401T173000Z
DTEND:20260401T183000Z
LOCATION:lieu de pratique salle omnisport 22490 pleslin trigavou
CATEGORIES:Manifestation
STATUS:
DESCRIPTION:<h1 style="text-align:center;">Depart en
 retraite</h1>
 
 <p style="text-align:justify;"><span
 style="font-size:14px;">A l'occasion de son depart en retraite Michel
 (notre arbitre) nous offre un verre.</span></p>
URL;VALUE=URI:https://lesarchersdufremur.sportsregions.fr/evenements/2026/04/01/michel-offre-un-verre-2431168
END:VEVENT
END:VCALENDAR
